BEGIN:VCALENDAR
VERSION:2.0
PRODID:-//ABC Livre - ECPv6.15.20//NONSGML v1.0//EN
CALSCALE:GREGORIAN
METHOD:PUBLISH
X-WR-CALNAME:ABC Livre
X-ORIGINAL-URL:https://abclivre.com
X-WR-CALDESC:Évènements pour ABC Livre
REFRESH-INTERVAL;VALUE=DURATION:PT1H
X-Robots-Tag:noindex
X-PUBLISHED-TTL:PT1H
BEGIN:VTIMEZONE
TZID:Europe/Paris
BEGIN:DAYLIGHT
TZOFFSETFROM:+0100
TZOFFSETTO:+0200
TZNAME:CEST
DTSTART:20250330T010000
END:DAYLIGHT
BEGIN:STANDARD
TZOFFSETFROM:+0200
TZOFFSETTO:+0100
TZNAME:CET
DTSTART:20251026T010000
END:STANDARD
BEGIN:DAYLIGHT
TZOFFSETFROM:+0100
TZOFFSETTO:+0200
TZNAME:CEST
DTSTART:20260329T010000
END:DAYLIGHT
BEGIN:STANDARD
TZOFFSETFROM:+0200
TZOFFSETTO:+0100
TZNAME:CET
DTSTART:20261025T010000
END:STANDARD
BEGIN:DAYLIGHT
TZOFFSETFROM:+0100
TZOFFSETTO:+0200
TZNAME:CEST
DTSTART:20270328T010000
END:DAYLIGHT
BEGIN:STANDARD
TZOFFSETFROM:+0200
TZOFFSETTO:+0100
TZNAME:CET
DTSTART:20271031T010000
END:STANDARD
END:VTIMEZONE
BEGIN:VEVENT
DTSTART;VALUE=DATE:20260424
DTEND;VALUE=DATE:20260427
DTSTAMP:20260424T015214
CREATED:20260323T135604Z
LAST-MODIFIED:20260323T135604Z
UID:18667-1776988800-1777247999@abclivre.com
SUMMARY:Week-end Écriture à la Roche Bernard
DESCRIPTION:Le nouveau week-end Escapade Écriture a lieu du vendredi 24 au dimanche 26 avril 2026 à la Roche Bernard. \nEnvie d’écrire\, mais…\n– La vie personnelle\, professionnelle\, familiale\, empêche d’y consacrer le temps souhaité.\n– Vous avez du mal à vous lancer seule\, vous avez besoin de parler d’écriture et de partager vos questions.\n– Il vous faut des mots extérieurs pour renouveler l’inspiration et expérimenter d’autres formes. \nEt si on partait ensemble ?\nPour deux jours dans une maison cocon\, à créer et partager nos mots entre passionnées. Une pause pour s’évader et se ressourcer ! \nAu programme\n– Plusieurs ateliers d’écriture avec votre animatrice dévouée\,\n– Deux nuits dans une maison cosy\,\n– Des dîners partagés en petit groupe\,\n– Des sorties aux alentours. \nOffrez enfin du temps à vos mots ! \nWeek-end complet\, informations complémentaires pour le prochain week-end par message.\nIl aura lieu en septembre 2026 et sera dédié à avancer vos projets personnels.
URL:https://abclivre.com/atelier/week-end-ecriture-a-la-roche-bernard
LOCATION:la Roche Bernard
CATEGORIES:Nomade
ATTACH;FMTTYPE=image/png:https://abclivre.com/wp-content/uploads/2026/03/Capture-decran-2026-02-20-a-14.24.50-e1774274209417.png
END:VEVENT
END:VCALENDAR