BEGIN:VCALENDAR
VERSION:2.0
PRODID:-//ABC Livre - ECPv6.15.20//NONSGML v1.0//EN
CALSCALE:GREGORIAN
METHOD:PUBLISH
X-WR-CALNAME:ABC Livre
X-ORIGINAL-URL:https://abclivre.com
X-WR-CALDESC:Évènements pour ABC Livre
REFRESH-INTERVAL;VALUE=DURATION:PT1H
X-Robots-Tag:noindex
X-PUBLISHED-TTL:PT1H
BEGIN:VTIMEZONE
TZID:Europe/Paris
BEGIN:DAYLIGHT
TZOFFSETFROM:+0100
TZOFFSETTO:+0200
TZNAME:CEST
DTSTART:20220327T010000
END:DAYLIGHT
BEGIN:STANDARD
TZOFFSETFROM:+0200
TZOFFSETTO:+0100
TZNAME:CET
DTSTART:20221030T010000
END:STANDARD
BEGIN:DAYLIGHT
TZOFFSETFROM:+0100
TZOFFSETTO:+0200
TZNAME:CEST
DTSTART:20230326T010000
END:DAYLIGHT
BEGIN:STANDARD
TZOFFSETFROM:+0200
TZOFFSETTO:+0100
TZNAME:CET
DTSTART:20231029T010000
END:STANDARD
BEGIN:DAYLIGHT
TZOFFSETFROM:+0100
TZOFFSETTO:+0200
TZNAME:CEST
DTSTART:20240331T010000
END:DAYLIGHT
BEGIN:STANDARD
TZOFFSETFROM:+0200
TZOFFSETTO:+0100
TZNAME:CET
DTSTART:20241027T010000
END:STANDARD
END:VTIMEZONE
BEGIN:VEVENT
DTSTART;TZID=Europe/Paris:20231218T190000
DTEND;TZID=Europe/Paris:20231218T210000
DTSTAMP:20260425T152102
CREATED:20231102T161038Z
LAST-MODIFIED:20231103T143454Z
UID:17560-1702926000-1702933200@abclivre.com
SUMMARY:Neige
DESCRIPTION:En ce mois de décembre\, je vous invite à écrire sur le thème de la Neige.\nNous étudierons ces parcelles d’eau congelée. Nous volerons avec les flocons. Nous skierons sur ces cristaux. \nQue la neige soit rêvée\, inconnue ou sportive\, nous irons voir du côté des montagnes et des souvenirs d’autan.\nNous l’espérerons éternelle pour prolonger nos échanges fondants et nos mots calfeutrés. \nNeige ailleurs\, neige dehors\, neige par la fenêtre ou dans nos esprits. Nous écrirons l’hiver\, ses aventures et ses précipitations. \n Rendez-vous au creux de nos maisons\, le lundi 18 décembre à 19h en ligne.  \n  \nCet atelier d’écriture est pour vous\, si : \n\nvous avez envie d’une pause créative\,\nvous avez besoin de temps libre pour vous-même\,\nvous voulez découvrir de nouvelles lectures et partager les vôtres\,\nvous aimez les défis\, les jeux et être surpris·es\,\nvous êtes intrigué·e à l’idée de participer à un atelier d’écriture\,\nvous êtes prêt·es à rencontrer d’autres curieux et curieuses.\n\nVente de billets en ligne
URL:https://abclivre.com/atelier/neige-2
LOCATION:En ligne
CATEGORIES:En ligne
ATTACH;FMTTYPE=image/jpeg:https://abclivre.com/wp-content/uploads/2023/11/abclivre_atelier_ecriture_neige-scaled.jpg
END:VEVENT
END:VCALENDAR