BEGIN:VCALENDAR
VERSION:2.0
PRODID:-//ABC Livre - ECPv6.15.20//NONSGML v1.0//EN
CALSCALE:GREGORIAN
METHOD:PUBLISH
X-WR-CALNAME:ABC Livre
X-ORIGINAL-URL:https://abclivre.com
X-WR-CALDESC:Évènements pour ABC Livre
REFRESH-INTERVAL;VALUE=DURATION:PT1H
X-Robots-Tag:noindex
X-PUBLISHED-TTL:PT1H
BEGIN:VTIMEZONE
TZID:Europe/Paris
BEGIN:DAYLIGHT
TZOFFSETFROM:+0100
TZOFFSETTO:+0200
TZNAME:CEST
DTSTART:20230326T010000
END:DAYLIGHT
BEGIN:STANDARD
TZOFFSETFROM:+0200
TZOFFSETTO:+0100
TZNAME:CET
DTSTART:20231029T010000
END:STANDARD
BEGIN:DAYLIGHT
TZOFFSETFROM:+0100
TZOFFSETTO:+0200
TZNAME:CEST
DTSTART:20240331T010000
END:DAYLIGHT
BEGIN:STANDARD
TZOFFSETFROM:+0200
TZOFFSETTO:+0100
TZNAME:CET
DTSTART:20241027T010000
END:STANDARD
BEGIN:DAYLIGHT
TZOFFSETFROM:+0100
TZOFFSETTO:+0200
TZNAME:CEST
DTSTART:20250330T010000
END:DAYLIGHT
BEGIN:STANDARD
TZOFFSETFROM:+0200
TZOFFSETTO:+0100
TZNAME:CET
DTSTART:20251026T010000
END:STANDARD
END:VTIMEZONE
BEGIN:VEVENT
DTSTART;TZID=Europe/Paris:20240125T100000
DTEND;TZID=Europe/Paris:20240125T120000
DTSTAMP:20260425T133550
CREATED:20231206T133243Z
LAST-MODIFIED:20240119T154153Z
UID:17641-1706176800-1706184000@abclivre.com
SUMMARY:Écriture & Sophrologie
DESCRIPTION:Qu’il soit lové au cœur d’une montagne\, suspendu au dessus d’un lac\, au creux d’une maison ou volontairement conservé secret\, nous avons tous un endroit refuge\, chaleureux et empli de lumière ; un lieu de ressources\, peut-être de recueil. \n\n\nManuela et Hélène vous invitent à un atelier écriture et sophrologie. \nVenez découvrir les bienfaits de ces deux pratiques lors d’un moment initiatique tout en douceur et en immersion. \nAccueillez vos émotions\, explorez vos sensations et laissez-vous guider pour\, enfin\, vous installer dans votre cocon. \nUne expérience accessible à toutes les personnes curieuses ! \nL’atelier a lieu en ligne en petit groupe. Prévoyez 1h30 à 2h. \nNouvelle date : jeudi 22 février ! \n*** \nQui sommes-nous ? \nHélène Batiot\, fondatrice d’abclivre. Les ateliers d’écriture sont un espace de partages et de jeux avec les mots. J’aime rendre accessible l’écriture à celles et ceux qu’elle attire. https://abclivre.com/ \nManuela Miranda\, Sophrologue certifiée. La sophrologie est un processus de découverte de soi et lors de mes séances\, je vous invite à adopter une attitude positive. https://www.m-masophrologie.fr/ \nVente de billets en ligne
URL:https://abclivre.com/atelier/ecriture-sophrologie
LOCATION:En ligne
CATEGORIES:En ligne
ATTACH;FMTTYPE=image/png:https://abclivre.com/wp-content/uploads/2023/12/Capture-decran-2023-12-06-a-14.16.16.png
END:VEVENT
BEGIN:VEVENT
DTSTART;TZID=Europe/Paris:20240129T190000
DTEND;TZID=Europe/Paris:20240129T210000
DTSTAMP:20260425T133550
CREATED:20231204T170207Z
LAST-MODIFIED:20240124T113140Z
UID:17609-1706554800-1706562000@abclivre.com
SUMMARY:Écrire les silences
DESCRIPTION:Comment mettre des mots sur ce qui ne fait pas de bruit ? \nJe vous invite à explorer les silences de nos livres et à écrire les silences de nos vies. \nLes silences qui ne disent rien et ceux qui disent tout. Ceux qui dérangent et ceux qu’on savoure. Les silences dans la nature et les silences dans la foule. Les silences qui crient\, ceux qui résonnent et ceux que personne n’entend. \nNous écrirons les mots qui se bousculent et les mots qui ont pris la fuite. \nSans tragédie\, avec toujours un peu d’amour\, rendez-vous le lundi 29 janvier à 19h en ligne.\n \n  \nCet atelier d’écriture est pour vous\, si : \n\nvous avez envie d’une pause créative\,\nvous avez besoin de temps libre pour vous-même\,\nvous voulez découvrir de nouvelles lectures et partager les vôtres\,\nvous aimez les défis\, les jeux et être surpris·es\,\nvous êtes intrigué·e à l’idée de participer à un atelier d’écriture\,\nvous êtes prêt·es à rencontrer d’autres curieux et curieuses.\n\nVente de billets en ligne
URL:https://abclivre.com/atelier/ecrire-les-silences-3
LOCATION:En ligne
CATEGORIES:En ligne
ATTACH;FMTTYPE=image/jpeg:https://abclivre.com/wp-content/uploads/2023/12/abclivre_atelier_ecriture_silences-scaled.jpg
END:VEVENT
END:VCALENDAR