BEGIN:VCALENDAR
VERSION:2.0
PRODID:-//ABC Livre - ECPv6.15.20//NONSGML v1.0//EN
CALSCALE:GREGORIAN
METHOD:PUBLISH
X-ORIGINAL-URL:https://abclivre.com
X-WR-CALDESC:Évènements pour ABC Livre
REFRESH-INTERVAL;VALUE=DURATION:PT1H
X-Robots-Tag:noindex
X-PUBLISHED-TTL:PT1H
BEGIN:VTIMEZONE
TZID:Europe/Paris
BEGIN:DAYLIGHT
TZOFFSETFROM:+0100
TZOFFSETTO:+0200
TZNAME:CEST
DTSTART:20240331T010000
END:DAYLIGHT
BEGIN:STANDARD
TZOFFSETFROM:+0200
TZOFFSETTO:+0100
TZNAME:CET
DTSTART:20241027T010000
END:STANDARD
BEGIN:DAYLIGHT
TZOFFSETFROM:+0100
TZOFFSETTO:+0200
TZNAME:CEST
DTSTART:20250330T010000
END:DAYLIGHT
BEGIN:STANDARD
TZOFFSETFROM:+0200
TZOFFSETTO:+0100
TZNAME:CET
DTSTART:20251026T010000
END:STANDARD
BEGIN:DAYLIGHT
TZOFFSETFROM:+0100
TZOFFSETTO:+0200
TZNAME:CEST
DTSTART:20260329T010000
END:DAYLIGHT
BEGIN:STANDARD
TZOFFSETFROM:+0200
TZOFFSETTO:+0100
TZNAME:CET
DTSTART:20261025T010000
END:STANDARD
END:VTIMEZONE
BEGIN:VEVENT
DTSTART;TZID=Europe/Paris:20250324T190000
DTEND;TZID=Europe/Paris:20250324T210000
DTSTAMP:20260424T123156
CREATED:20250115T110149Z
LAST-MODIFIED:20250131T182313Z
UID:18026-1742842800-1742850000@abclivre.com
SUMMARY:La poésie des mots
DESCRIPTION:Profitons du printemps pour observer la poésie des mots. \nMots moches\, mots originaux\, gros mots\, mots rigolos\, mots beaux\, il y en aura pour tous les goûts. \nPonctuation aléatoire\, rimes inattendues\, structures décalées\, objets-livres\, nous nous pencherons sur différentes formes de texte pour casser les codes\, les règles et les rythmes. \nVenez trouver la poésie des petites choses\, la poésie des mots\, la poésie en chaque personne.\nInscrivez-vous pour vous frotter à la poésie décomplexée et pour écrire de la poésie en s’amusant. \nRendez-vous le lundi 24 mars à 19h en ligne. \nCet atelier d’écriture est pour vous\, si : \n\n\n\nvous avez envie d’une pause créative\,\nvous avez besoin de temps libre pour vous-même\,\nvous voulez découvrir de nouvelles lectures et partager les vôtres\,\nvous aimez les défis\, les jeux et être surpris·es\,\nvous êtes intrigué·e à l’idée de participer à un atelier d’écriture\,\nvous êtes prêt·es à rencontrer d’autres curieux et curieuses.\n\n\n\nC’est votre premier atelier ? Bienvenue !\nPour en savoir plus sur le déroulé\, c’est sur cet article qui présente vos droits imprescriptibles. \nVente de billets en ligne
URL:https://abclivre.com/atelier/la-poesie-des-mots-3
LOCATION:En ligne
CATEGORIES:En ligne
ATTACH;FMTTYPE=image/jpeg:https://abclivre.com/wp-content/uploads/2025/01/tanya-trukyr-Gu3Wy1dpcag-unsplash-scaled-e1736936712557.jpg
END:VEVENT
BEGIN:VEVENT
DTSTART;TZID=Europe/Paris:20250328T100000
DTEND;TZID=Europe/Paris:20250328T120000
DTSTAMP:20260424T123156
CREATED:20250115T110138Z
LAST-MODIFIED:20250131T182355Z
UID:18028-1743156000-1743163200@abclivre.com
SUMMARY:La poésie des mots
DESCRIPTION:Profitons du printemps pour observer la poésie des mots. \nMots moches\, mots originaux\, gros mots\, mots rigolos\, mots beaux\, il y en aura pour tous les goûts. \nPonctuation aléatoire\, rimes inattendues\, structures décalées\, objets-livres\, nous nous pencherons sur différentes formes de texte pour casser les codes\, les règles et les rythmes. \nVenez trouver la poésie des petites choses\, la poésie des mots\, la poésie en chaque personne.\nInscrivez-vous pour vous frotter à la poésie décomplexée et pour écrire de la poésie en s’amusant. \nRendez-vous le vendredi 28 mars à 10h en ligne. \nCet atelier d’écriture est pour vous\, si : \n\n\n\nvous avez envie d’une pause créative\,\nvous avez besoin de temps libre pour vous-même\,\nvous voulez découvrir de nouvelles lectures et partager les vôtres\,\nvous aimez les défis\, les jeux et être surpris·es\,\nvous êtes intrigué·e à l’idée de participer à un atelier d’écriture\,\nvous êtes prêt·es à rencontrer d’autres curieux et curieuses.\n\n\n\nC’est votre premier atelier ? Bienvenue !\nPour en savoir plus sur le déroulé\, c’est sur cet article qui présente vos droits imprescriptibles. \nVente de billets en ligne
URL:https://abclivre.com/atelier/la-poesie-des-mots-2
LOCATION:En ligne
CATEGORIES:En ligne
ATTACH;FMTTYPE=image/jpeg:https://abclivre.com/wp-content/uploads/2025/01/tanya-trukyr-Gu3Wy1dpcag-unsplash-scaled-e1736936712557.jpg
END:VEVENT
END:VCALENDAR