BEGIN:VCALENDAR
VERSION:2.0
PRODID:-//ABC Livre - ECPv6.15.20//NONSGML v1.0//EN
CALSCALE:GREGORIAN
METHOD:PUBLISH
X-WR-CALNAME:ABC Livre
X-ORIGINAL-URL:https://abclivre.com
X-WR-CALDESC:Évènements pour ABC Livre
REFRESH-INTERVAL;VALUE=DURATION:PT1H
X-Robots-Tag:noindex
X-PUBLISHED-TTL:PT1H
BEGIN:VTIMEZONE
TZID:Europe/Paris
BEGIN:DAYLIGHT
TZOFFSETFROM:+0100
TZOFFSETTO:+0200
TZNAME:CEST
DTSTART:20240331T010000
END:DAYLIGHT
BEGIN:STANDARD
TZOFFSETFROM:+0200
TZOFFSETTO:+0100
TZNAME:CET
DTSTART:20241027T010000
END:STANDARD
BEGIN:DAYLIGHT
TZOFFSETFROM:+0100
TZOFFSETTO:+0200
TZNAME:CEST
DTSTART:20250330T010000
END:DAYLIGHT
BEGIN:STANDARD
TZOFFSETFROM:+0200
TZOFFSETTO:+0100
TZNAME:CET
DTSTART:20251026T010000
END:STANDARD
BEGIN:DAYLIGHT
TZOFFSETFROM:+0100
TZOFFSETTO:+0200
TZNAME:CEST
DTSTART:20260329T010000
END:DAYLIGHT
BEGIN:STANDARD
TZOFFSETFROM:+0200
TZOFFSETTO:+0100
TZNAME:CET
DTSTART:20261025T010000
END:STANDARD
END:VTIMEZONE
BEGIN:VEVENT
DTSTART;TZID=Europe/Paris:20250728T000000
DTEND;TZID=Europe/Paris:20250803T233000
DTSTAMP:20260424T034016
CREATED:20250718T094007Z
LAST-MODIFIED:20250718T095059Z
UID:18277-1753660800-1754263800@abclivre.com
SUMMARY:Atelier d'écriture chocolat
DESCRIPTION:Un atelier gourmand\, généreux\, parfait pour vous reconnecter à vos sens et à vos souvenirs. Accessible et ludique\, il est idéal pour vous familiariser avec l’écriture guidée ! \nChocolat\, nom masculin (Le Robert) \n1. Substance alimentaire (pâte solidifiée) faite de cacao broyé avec du sucre\, de la vanille\, etc.\n2. Boisson faite de poudre de cacao. \nLe chocolat est pourtant bien plus qu’un simple aliment.\nAu lait\, noir\, à boire ou à croquer\, il devient un prétexte pour écrire l’enfance et le goût. L’occasion parfaite d’explorer vos coups de cœur\, vos moments familiaux\, vos tablettes préférées par les mots. \nCet atelier est accessible au format Écritonomie : de courtes vidéos pour vous guider dans l’écriture\, des premiers mots jusqu’à plusieurs textes construits. Inscrivez-vous\, suivez les lectures et les propositions d’écriture et découvrez vos peurs sur le papier.\nCet atelier d’écriture est pour vous\, si : \n\nvous avez envie d’une pause créative\,\nvous avez besoin de temps libre pour vous-même\,\nvous voulez découvrir de nouvelles lectures et partager les vôtres\,\nvous aimez les défis\, les jeux et être surpris·es\,\nvous êtes intrigué·e à l’idée de participer à un atelier d’écriture.
URL:https://abclivre.com/atelier/atelier-decriture-chocolat
LOCATION:En ligne
CATEGORIES:En ligne
ATTACH;FMTTYPE=image/jpeg:https://abclivre.com/wp-content/uploads/2023/03/atelier-ecriture-en-ligne-chocolat.jpeg
END:VEVENT
BEGIN:VEVENT
DTSTART;TZID=Europe/Paris:20250804T000000
DTEND;TZID=Europe/Paris:20250810T233000
DTSTAMP:20260424T034016
CREATED:20250718T094353Z
LAST-MODIFIED:20250718T095016Z
UID:18279-1754265600-1754868600@abclivre.com
SUMMARY:Atelier d'écriture Le Défouloir
DESCRIPTION:Pour cet atelier\, l’objectif est de VOUS DÉ-FOU-LER ! Au programme : des jurons\, des textes décalés\, beaucoup d’impertinence et encore moins de sérieux que d’habitude. \nEn avril 2020\, j’ai eu envie qu’on lâche prise\, qu’on s’autorise à râler\, à dire qu’on en a marre\, qu’on est fatigué·es ou qu’on ne supporte plus l’entourage (trop) proche. C’est ainsi que le défouloir s’est imposé à moi. Comme un petit plaisir coupable\, utiliser la littérature pour frôler les interdits\, les gros mots déplacés\, la vulgarité\, les pensées moches qui n’auraient soit disant pas sa place dans la beauté créative. \nAlors\, j’ai imaginé un espace où vous pourriez dénoncer\, partager et surtout profiter de l’écriture pour mettre un peu de distance avec vos soucis. Parce qu’une fois que c’est dit\, ça va déjà un peu mieux\, non ? \n\nCet atelier est accessible au format Écritonomie : de courtes vidéos pour vous guider dans l’écriture\, des premiers mots jusqu’à plusieurs textes construits. Inscrivez-vous\, suivez les lectures et les propositions d’écriture et découvrez vos peurs sur le papier. \nCet atelier d’écriture est pour vous\, si : \n\nvous avez envie d’une pause créative\,\nvous avez besoin de temps libre pour vous-même\,\nvous voulez découvrir de nouvelles lectures et partager les vôtres\,\nvous aimez les défis\, les jeux et être surpris·es\,\nvous êtes intrigué·e à l’idée de participer à un atelier d’écriture.
URL:https://abclivre.com/atelier/atelier-decriture-chocolat-2
LOCATION:En ligne
CATEGORIES:En ligne
ATTACH;FMTTYPE=image/jpeg:https://abclivre.com/wp-content/uploads/2023/03/atelier-ecriture-en-ligne-defouloir.jpeg
END:VEVENT
BEGIN:VEVENT
DTSTART;TZID=Europe/Paris:20250811T000000
DTEND;TZID=Europe/Paris:20250817T233000
DTSTAMP:20260424T034016
CREATED:20250718T094834Z
LAST-MODIFIED:20250718T094930Z
UID:18283-1754870400-1755473400@abclivre.com
SUMMARY:Atelier d'écriture Des mots dans la nuit
DESCRIPTION:Des nuits pour vous confier\, pour voyager\, pour vous écouter\, pour dormir\, pour rêver ou pour écrire. L’exploration de la nuit par les mots\, ça donne un atelier en toute intimité. \nNuit\, nom féminin (Le Robert). \nObscurité qui enveloppe quotidiennement une partie de la Terre du fait de sa rotation. \nEspace de temps qui s’écoule depuis le coucher jusqu’au lever du soleil. \nDans la nuit\, il y a les mots chuchotés\, les mots pensés\, les mots évités\, les mots criés. Il y a les phrases d’amour\, de joie\, de peur\, et de douleur. Il y a les lignes des livres et celles que vous allez écrire. \nDans la nuit\, au coin du feu\, au creux du lit\, dans la nuit\, ensemble\, à table\, dehors. Soirée tardive ou petit matin\, trouvez vos rythmes pour favoriser vos inspirations. Des nuits pour vous confier\, des nuits pour voyager\, des nuits pour vous écouter\, des nuits pour dormir\, des nuits pour rêver ou pour écrire ! \nUn atelier léger et sérieux\, un atelier pour rire et s’amuser\, un atelier en toute intimité. \n\nCet atelier est accessible au format Écritonomie : de courtes vidéos pour vous guider dans l’écriture\, des premiers mots jusqu’à plusieurs textes construits. Inscrivez-vous\, suivez les lectures et les propositions d’écriture et découvrez vos peurs sur le papier. \nCet atelier d’écriture est pour vous\, si : \n\nvous avez envie d’une pause créative\,\nvous avez besoin de temps libre pour vous-même\,\nvous voulez découvrir de nouvelles lectures et partager les vôtres\,\nvous aimez les défis\, les jeux et être surpris·es\,\nvous êtes intrigué·e à l’idée de participer à un atelier d’écriture.
URL:https://abclivre.com/atelier/atelier-decriture-des-mots-dans-la-nuit
LOCATION:En ligne
CATEGORIES:En ligne
ATTACH;FMTTYPE=image/jpeg:https://abclivre.com/wp-content/uploads/2023/03/atelier-ecriture-en-ligne-des-mots-dans-la-nuit.jpeg
END:VEVENT
BEGIN:VEVENT
DTSTART;TZID=Europe/Paris:20250818T003000
DTEND;TZID=Europe/Paris:20250824T233000
DTSTAMP:20260424T034016
CREATED:20250718T093051Z
LAST-MODIFIED:20250718T094937Z
UID:18273-1755477000-1756078200@abclivre.com
SUMMARY:Générations
DESCRIPTION:Bienvenue dans un atelier d’écriture ! \nProfitez d’un temps de découverte pour poser des mots autour du thème Générations. \nJe vous prépare des extraits sur les rencontres entre petits et grands\, je vous repère des mots anciens et des mots nouveaux. Nous allons regarder du côté des habitudes et des traditions. \nNous nous inspirerons des objets pour raconter des anecdotes de vie. Et vous viendrez saupoudrez tout ça de vos imaginaires. \nCet atelier est accessible au format Écritonomie : de courtes vidéos pour vous guider dans l’écriture\, des premiers mots jusqu’à plusieurs textes construits. Inscrivez-vous\, suivez les lectures et les propositions d’écriture et découvrez vos peurs sur le papier.\n \nCet atelier d’écriture est pour vous\, si : \n\nvous avez envie d’une pause créative\,\nvous avez besoin de temps libre pour vous-même\,\nvous voulez découvrir de nouvelles lectures et partager les vôtres\,\nvous aimez les défis\, les jeux et être surpris·es\,\nvous êtes intrigué·e à l’idée de participer à un atelier d’écriture.
URL:https://abclivre.com/atelier/generations-8
LOCATION:En ligne
CATEGORIES:En ligne
ATTACH;FMTTYPE=image/jpeg:https://abclivre.com/wp-content/uploads/2023/10/abclivre_atelier_ecriture_generations-scaled.jpg
END:VEVENT
END:VCALENDAR