BEGIN:VCALENDAR
VERSION:2.0
PRODID:-//ABC Livre - ECPv6.15.20//NONSGML v1.0//EN
CALSCALE:GREGORIAN
METHOD:PUBLISH
X-WR-CALNAME:ABC Livre
X-ORIGINAL-URL:https://abclivre.com
X-WR-CALDESC:Évènements pour ABC Livre
REFRESH-INTERVAL;VALUE=DURATION:PT1H
X-Robots-Tag:noindex
X-PUBLISHED-TTL:PT1H
BEGIN:VTIMEZONE
TZID:Europe/Paris
BEGIN:DAYLIGHT
TZOFFSETFROM:+0100
TZOFFSETTO:+0200
TZNAME:CEST
DTSTART:20230326T010000
END:DAYLIGHT
BEGIN:STANDARD
TZOFFSETFROM:+0200
TZOFFSETTO:+0100
TZNAME:CET
DTSTART:20231029T010000
END:STANDARD
BEGIN:DAYLIGHT
TZOFFSETFROM:+0100
TZOFFSETTO:+0200
TZNAME:CEST
DTSTART:20240331T010000
END:DAYLIGHT
BEGIN:STANDARD
TZOFFSETFROM:+0200
TZOFFSETTO:+0100
TZNAME:CET
DTSTART:20241027T010000
END:STANDARD
BEGIN:DAYLIGHT
TZOFFSETFROM:+0100
TZOFFSETTO:+0200
TZNAME:CEST
DTSTART:20250330T010000
END:DAYLIGHT
BEGIN:STANDARD
TZOFFSETFROM:+0200
TZOFFSETTO:+0100
TZNAME:CET
DTSTART:20251026T010000
END:STANDARD
END:VTIMEZONE
BEGIN:VEVENT
DTSTART;TZID=Europe/Paris:20240826T190000
DTEND;TZID=Europe/Paris:20240826T210000
DTSTAMP:20260425T012640
CREATED:20240708T141056Z
LAST-MODIFIED:20240711T065218Z
UID:17896-1724698800-1724706000@abclivre.com
SUMMARY:Générations
DESCRIPTION:Pour tout vous dire\, j’hésitais à appeler cet atelier Grands-parents\, mais ça manquait d’un côté plus vaste et plus… sexy. \nJe suis passée par Transmissions (trop moteur de voiture)\, Ancêtres (trop fripés)\, avant de me lever en me disant que les liens étaient au centre de mon thème et que Générations nous permettrait de saisir l’axe et les échanges qui nous plairaient. \nNous y voilà\, je vous prépare des extraits sur les rencontres entre petits et grands\, je vous repère des mots anciens et des mots nouveaux. Je vais regarder du côté des traditions. \nNous nous inspirerons des objets pour raconter des anecdotes de vie. Et vous viendrez saupoudrez tout ça de vos imaginaires. \n Lundi 26 août à 19 heures\, rendez-vous en ligne depuis chez vous pour écrire confortablement.\nCeci est une nouvelle édition des ateliers qui ont eu lieu à Nantes et en ligne en novembre 2023.\n \n  \nCet atelier d’écriture est pour vous\, si : \n\nvous avez envie d’une pause créative\,\nvous avez besoin de temps libre pour vous-même\,\nvous voulez découvrir de nouvelles lectures et partager les vôtres\,\nvous aimez les défis\, les jeux et être surpris·es\,\nvous êtes intrigué·e à l’idée de participer à un atelier d’écriture\,\nvous êtes prêt·es à rencontrer d’autres curieux et curieuses.\n\nVente de billets en ligne
URL:https://abclivre.com/atelier/generations-4
LOCATION:En ligne
CATEGORIES:En ligne
ATTACH;FMTTYPE=image/jpeg:https://abclivre.com/wp-content/uploads/2023/10/abclivre_atelier_ecriture_generations-scaled.jpg
END:VEVENT
END:VCALENDAR