BEGIN:VCALENDAR
VERSION:2.0
PRODID:-//ABC Livre - ECPv6.15.20//NONSGML v1.0//EN
CALSCALE:GREGORIAN
METHOD:PUBLISH
X-ORIGINAL-URL:https://abclivre.com
X-WR-CALDESC:Évènements pour ABC Livre
REFRESH-INTERVAL;VALUE=DURATION:PT1H
X-Robots-Tag:noindex
X-PUBLISHED-TTL:PT1H
BEGIN:VTIMEZONE
TZID:Europe/Paris
BEGIN:DAYLIGHT
TZOFFSETFROM:+0100
TZOFFSETTO:+0200
TZNAME:CEST
DTSTART:20230326T010000
END:DAYLIGHT
BEGIN:STANDARD
TZOFFSETFROM:+0200
TZOFFSETTO:+0100
TZNAME:CET
DTSTART:20231029T010000
END:STANDARD
BEGIN:DAYLIGHT
TZOFFSETFROM:+0100
TZOFFSETTO:+0200
TZNAME:CEST
DTSTART:20240331T010000
END:DAYLIGHT
BEGIN:STANDARD
TZOFFSETFROM:+0200
TZOFFSETTO:+0100
TZNAME:CET
DTSTART:20241027T010000
END:STANDARD
BEGIN:DAYLIGHT
TZOFFSETFROM:+0100
TZOFFSETTO:+0200
TZNAME:CEST
DTSTART:20250330T010000
END:DAYLIGHT
BEGIN:STANDARD
TZOFFSETFROM:+0200
TZOFFSETTO:+0100
TZNAME:CET
DTSTART:20251026T010000
END:STANDARD
END:VTIMEZONE
BEGIN:VEVENT
DTSTART;TZID=Europe/Paris:20240923T190000
DTEND;TZID=Europe/Paris:20240923T210000
DTSTAMP:20260425T013212
CREATED:20240808T082708Z
LAST-MODIFIED:20240808T083016Z
UID:17918-1727118000-1727125200@abclivre.com
SUMMARY:Les mots avant l'automne
DESCRIPTION:Bienvenue en septembre avec son ambiance de rentrée et ses couleurs rougissantes.\nVous croyez vraiment qu’il n’y a plus de saisons\, ma brave dame ? \nSavourons ensemble son rythme particulier et ses lumières uniques. \nUn atelier d’écriture pour saluer l’été et accueillir les feuilles.\nUn atelier d’écriture qui plonge dans l’imagination et nous invite à l’exploration. \nNous jouerons avec les éléments naturels\, nous accueillerons le changement et nous trouverons la poésie des saisons. Avec l’aide de la nature\, des crayons\, du soleil et peut-être d’une petite laine. \nRendez-vous le lundi 23 septembre à 19h en ligne\, au-delà des frontières.\n \nUne autre date nantaise et une date yonnaise seront ajoutées dans un second temps. \nCet atelier d’écriture est pour vous\, si : \n\n\n\nvous avez envie d’une pause créative\,\nvous avez besoin de temps libre pour vous-même\,\nvous voulez découvrir de nouvelles lectures et partager les vôtres\,\nvous aimez les défis\, les jeux et être surpris·es\,\nvous êtes intrigué·e à l’idée de participer à un atelier d’écriture\,\nvous êtes prêt·es à rencontrer d’autres curieux et curieuses.\n\n\n\nC’est votre premier atelier ? Bienvenue !\nPour en savoir plus sur le déroulé\, c’est sur cet article qui présente vos droits imprescriptibles. \nVente de billets en ligne
URL:https://abclivre.com/atelier/les-mots-avant-lautomne
LOCATION:En ligne
CATEGORIES:En ligne
ATTACH;FMTTYPE=image/jpeg:https://abclivre.com/wp-content/uploads/2024/08/jessica-fadel-R9Yvip4YFBA-unsplash2-scaled.jpg
END:VEVENT
END:VCALENDAR