BEGIN:VCALENDAR
VERSION:2.0
PRODID:-//ABC Livre - ECPv6.15.20//NONSGML v1.0//EN
CALSCALE:GREGORIAN
METHOD:PUBLISH
X-ORIGINAL-URL:https://abclivre.com
X-WR-CALDESC:Évènements pour ABC Livre
REFRESH-INTERVAL;VALUE=DURATION:PT1H
X-Robots-Tag:noindex
X-PUBLISHED-TTL:PT1H
BEGIN:VTIMEZONE
TZID:Europe/Paris
BEGIN:DAYLIGHT
TZOFFSETFROM:+0100
TZOFFSETTO:+0200
TZNAME:CEST
DTSTART:20240331T010000
END:DAYLIGHT
BEGIN:STANDARD
TZOFFSETFROM:+0200
TZOFFSETTO:+0100
TZNAME:CET
DTSTART:20241027T010000
END:STANDARD
BEGIN:DAYLIGHT
TZOFFSETFROM:+0100
TZOFFSETTO:+0200
TZNAME:CEST
DTSTART:20250330T010000
END:DAYLIGHT
BEGIN:STANDARD
TZOFFSETFROM:+0200
TZOFFSETTO:+0100
TZNAME:CET
DTSTART:20251026T010000
END:STANDARD
BEGIN:DAYLIGHT
TZOFFSETFROM:+0100
TZOFFSETTO:+0200
TZNAME:CEST
DTSTART:20260329T010000
END:DAYLIGHT
BEGIN:STANDARD
TZOFFSETFROM:+0200
TZOFFSETTO:+0100
TZNAME:CET
DTSTART:20261025T010000
END:STANDARD
END:VTIMEZONE
BEGIN:VEVENT
DTSTART;TZID=Europe/Paris:20250411T100000
DTEND;TZID=Europe/Paris:20250411T120000
DTSTAMP:20260424T123610
CREATED:20250321T115150Z
LAST-MODIFIED:20250321T115150Z
UID:18104-1744365600-1744372800@abclivre.com
SUMMARY:Clés et tiroirs
DESCRIPTION:Clés\, tiroirs et autres portes\, quel drôle de thème me direz-vous ! \nJe vous propose un atelier d’écriture pour ouvrir l’imagination et explorer des espaces mystérieux.\n\nClés\, tiroirs et autres portes… \nOù les trouve-t-on ? Que cachent-ils ? Quels accès donnent-ils ? Quels personnages les manipulent ? Quelles histoires renferment-ils ? \nÀ partir de ces objets a priori anodins\, nous rassemblerons des bribes d’univers à construire. \nInscrivez-vous\, tournez la clé\, poussez la porte et offrez-vous deux heures ailleurs. \nRendez-vous le vendredi 11 avril à 10h en ligne. \nCet atelier d’écriture est pour vous\, si : \n\n\n\nvous avez envie d’une pause créative\,\nvous avez besoin de temps libre pour vous-même\,\nvous voulez découvrir de nouvelles lectures et partager les vôtres\,\nvous aimez les défis\, les jeux et être surpris·es\,\nvous êtes intrigué·e à l’idée de participer à un atelier d’écriture\,\nvous êtes prêt·es à rencontrer d’autres curieux et curieuses.\n\n\n\nC’est votre premier atelier ? Bienvenue !\nPour en savoir plus sur le déroulé\, c’est sur cet article qui présente vos droits imprescriptibles. \nVente de billets en ligne
URL:https://abclivre.com/atelier/cles-et-tiroirs-5
LOCATION:En ligne
CATEGORIES:En ligne
ATTACH;FMTTYPE=image/jpeg:https://abclivre.com/wp-content/uploads/2025/01/susan-holt-simpson-1RE2Xn6rTQc-unsplash1-scaled.jpg
END:VEVENT
END:VCALENDAR