BEGIN:VCALENDAR
VERSION:2.0
PRODID:-//ABC Livre - ECPv6.15.20//NONSGML v1.0//EN
CALSCALE:GREGORIAN
METHOD:PUBLISH
X-WR-CALNAME:ABC Livre
X-ORIGINAL-URL:https://abclivre.com
X-WR-CALDESC:Évènements pour ABC Livre
REFRESH-INTERVAL;VALUE=DURATION:PT1H
X-Robots-Tag:noindex
X-PUBLISHED-TTL:PT1H
BEGIN:VTIMEZONE
TZID:Europe/Paris
BEGIN:DAYLIGHT
TZOFFSETFROM:+0100
TZOFFSETTO:+0200
TZNAME:CEST
DTSTART:20240331T010000
END:DAYLIGHT
BEGIN:STANDARD
TZOFFSETFROM:+0200
TZOFFSETTO:+0100
TZNAME:CET
DTSTART:20241027T010000
END:STANDARD
BEGIN:DAYLIGHT
TZOFFSETFROM:+0100
TZOFFSETTO:+0200
TZNAME:CEST
DTSTART:20250330T010000
END:DAYLIGHT
BEGIN:STANDARD
TZOFFSETFROM:+0200
TZOFFSETTO:+0100
TZNAME:CET
DTSTART:20251026T010000
END:STANDARD
BEGIN:DAYLIGHT
TZOFFSETFROM:+0100
TZOFFSETTO:+0200
TZNAME:CEST
DTSTART:20260329T010000
END:DAYLIGHT
BEGIN:STANDARD
TZOFFSETFROM:+0200
TZOFFSETTO:+0100
TZNAME:CET
DTSTART:20261025T010000
END:STANDARD
END:VTIMEZONE
BEGIN:VEVENT
DTSTART;TZID=Europe/Paris:20250705T000000
DTEND;TZID=Europe/Paris:20250706T233000
DTSTAMP:20260424T071838
CREATED:20250627T084350Z
LAST-MODIFIED:20250627T084931Z
UID:18214-1751673600-1751844600@abclivre.com
SUMMARY:Secrets et déclarations
DESCRIPTION:Il y a les choses que l’on dit et les choses que l’on tait. Les choses que l’on cache et les choses que l’on clame. \nLes mots qu’on veut entendre et les mots qu’on a du mal à prononcer. Les mots d’amour et les mots gênés. Les mots un peu des deux. Les confidences\, les déclarations\, les secrets intimes et les secrets partagés. Le poids qui tombe. \nNotabene : nul besoin de se dévoiler\, vous êtes évidemment libres d’écrire des secrets inventés et des déclarations imaginées. \nSecrets et déclarations : exprimer\, écrire\, cacher\, confier\, cerner\, informer\, appréhender\, manifester\, dire\, hésiter\, annoncer\, assumer… C’est ce qu’on fait à chaque atelier\, non ? \nPour explorer les non-dits\, pour des déclarations inédites\, pour découvrir vos propres secrets\, cet atelier est accessible au format Écritonomie : de courtes vidéos pour vous guider dans l’écriture\, des premiers mots jusqu’à plusieurs textes construits. Inscrivez-vous\, suivez les lectures et les propositions d’écriture et partagez vos déclarations. \nCet atelier d’écriture est pour vous\, si : \n\n\n\nvous avez envie d’une pause créative\,\nvous avez besoin de temps libre pour vous-même\,\nvous voulez découvrir de nouvelles lectures et partager les vôtres\,\nvous aimez les défis\, les jeux et être surpris·es\,\nvous êtes intrigué·e à l’idée de participer à un atelier d’écriture\,\nvous êtes prêt·es à rencontrer d’autres curieux et curieuses.
URL:https://abclivre.com/atelier/secrets-et-declarations-2
LOCATION:En ligne
CATEGORIES:En ligne
ATTACH;FMTTYPE=image/jpeg:https://abclivre.com/wp-content/uploads/2023/03/atelier-ecriture-en-ligne-secrets.jpeg
END:VEVENT
END:VCALENDAR