BEGIN:VCALENDAR
VERSION:2.0
PRODID:-//ABC Livre - ECPv6.15.20//NONSGML v1.0//EN
CALSCALE:GREGORIAN
METHOD:PUBLISH
X-WR-CALNAME:ABC Livre
X-ORIGINAL-URL:https://abclivre.com
X-WR-CALDESC:Évènements pour ABC Livre
REFRESH-INTERVAL;VALUE=DURATION:PT1H
X-Robots-Tag:noindex
X-PUBLISHED-TTL:PT1H
BEGIN:VTIMEZONE
TZID:Europe/Paris
BEGIN:DAYLIGHT
TZOFFSETFROM:+0100
TZOFFSETTO:+0200
TZNAME:CEST
DTSTART:20240331T010000
END:DAYLIGHT
BEGIN:STANDARD
TZOFFSETFROM:+0200
TZOFFSETTO:+0100
TZNAME:CET
DTSTART:20241027T010000
END:STANDARD
BEGIN:DAYLIGHT
TZOFFSETFROM:+0100
TZOFFSETTO:+0200
TZNAME:CEST
DTSTART:20250330T010000
END:DAYLIGHT
BEGIN:STANDARD
TZOFFSETFROM:+0200
TZOFFSETTO:+0100
TZNAME:CET
DTSTART:20251026T010000
END:STANDARD
BEGIN:DAYLIGHT
TZOFFSETFROM:+0100
TZOFFSETTO:+0200
TZNAME:CEST
DTSTART:20260329T010000
END:DAYLIGHT
BEGIN:STANDARD
TZOFFSETFROM:+0200
TZOFFSETTO:+0100
TZNAME:CET
DTSTART:20261025T010000
END:STANDARD
END:VTIMEZONE
BEGIN:VEVENT
DTSTART;VALUE=DATE:20250719
DTEND;VALUE=DATE:20250721
DTSTAMP:20260424T071913
CREATED:20250616T133647Z
LAST-MODIFIED:20250616T133835Z
UID:18207-1752883200-1753055999@abclivre.com
SUMMARY:Les mots de la peur
DESCRIPTION:Comment ressent-on la peur ? Et comment la transcrire dans nos récits ? \nNous regarderons les petits et grands déclencheurs\, nous nous attarderons sur les effets physiques de cet alerte corporelle et surtout\, nous écrirons des réactions variées. \nChacun·e pourra déposer ses observations\, imaginer des situations et partager des instants de nos histoires\, réelles ou inventées\, peu importe ! \nNous prendrons ce vaste monde des émotions comme un terrain de jeu pour écrire. \nCet atelier est accessible au format Écritonomie : de courtes vidéos pour vous guider dans l’écriture\, des premiers mots jusqu’à plusieurs textes construits. Inscrivez-vous\, suivez les lectures et les propositions d’écriture et découvrez vos peurs sur le papier. \n  \nCet atelier d’écriture est pour vous\, si : \n\nvous avez envie d’une pause créative\,\nvous avez besoin de temps libre pour vous-même\,\nvous voulez découvrir de nouvelles lectures et partager les vôtres\,\nvous aimez les défis\, les jeux et être surpris·es\,\nvous êtes intrigué·e à l’idée de participer à un atelier d’écriture\,\nvous êtes prêt·es à rencontrer d’autres curieux et curieuses.
URL:https://abclivre.com/atelier/les-mots-de-la-peur-3
LOCATION:En ligne
CATEGORIES:En ligne
ATTACH;FMTTYPE=image/jpeg:https://abclivre.com/wp-content/uploads/2023/09/abclivre_atelier_ecriture_peur-scaled.jpg
END:VEVENT
END:VCALENDAR