BEGIN:VCALENDAR
VERSION:2.0
PRODID:-//ABC Livre - ECPv6.15.20//NONSGML v1.0//EN
CALSCALE:GREGORIAN
METHOD:PUBLISH
X-WR-CALNAME:ABC Livre
X-ORIGINAL-URL:https://abclivre.com
X-WR-CALDESC:Évènements pour ABC Livre
REFRESH-INTERVAL;VALUE=DURATION:PT1H
X-Robots-Tag:noindex
X-PUBLISHED-TTL:PT1H
BEGIN:VTIMEZONE
TZID:Europe/Paris
BEGIN:DAYLIGHT
TZOFFSETFROM:+0100
TZOFFSETTO:+0200
TZNAME:CEST
DTSTART:20240331T010000
END:DAYLIGHT
BEGIN:STANDARD
TZOFFSETFROM:+0200
TZOFFSETTO:+0100
TZNAME:CET
DTSTART:20241027T010000
END:STANDARD
BEGIN:DAYLIGHT
TZOFFSETFROM:+0100
TZOFFSETTO:+0200
TZNAME:CEST
DTSTART:20250330T010000
END:DAYLIGHT
BEGIN:STANDARD
TZOFFSETFROM:+0200
TZOFFSETTO:+0100
TZNAME:CET
DTSTART:20251026T010000
END:STANDARD
BEGIN:DAYLIGHT
TZOFFSETFROM:+0100
TZOFFSETTO:+0200
TZNAME:CEST
DTSTART:20260329T010000
END:DAYLIGHT
BEGIN:STANDARD
TZOFFSETFROM:+0200
TZOFFSETTO:+0100
TZNAME:CET
DTSTART:20261025T010000
END:STANDARD
END:VTIMEZONE
BEGIN:VEVENT
DTSTART;TZID=Europe/Paris:20251027T190000
DTEND;TZID=Europe/Paris:20251027T210000
DTSTAMP:20260424T001559
CREATED:20250708T150303Z
LAST-MODIFIED:20250708T150303Z
UID:18256-1761591600-1761598800@abclivre.com
SUMMARY:Rencontres
DESCRIPTION:Un atelier d’écriture pour tenter de dire les regards\, les premières fois\, les rencontres humaines… et pas que. Les rencontres imaginées\, idéalisées\, les rencontres avec un lieu\, une activité\, avec soi\, pourquoi pas. \nPendant deux heures\, nous savourerons les rencontres et piocherons dans des extraits choisis pour inspirer nos textes et nos plumes. \nRendez-vous le lundi 27 octobre à 19h en ligne depuis votre canapé. \nCet atelier d’écriture est pour vous\, si : \n\n\n\nvous avez envie d’une pause créative\,\nvous avez besoin de temps libre pour vous-même\,\nvous voulez découvrir de nouvelles lectures et partager les vôtres\,\nvous aimez les défis\, les jeux et être surpris·es\,\nvous êtes intrigué·e à l’idée de participer à un atelier d’écriture\,\nvous êtes prêt·es à rencontrer d’autres curieux et curieuses.\n\n\n\nC’est votre premier atelier ? Bienvenue !\nPour en savoir plus sur le déroulé\, c’est sur cet article qui présente vos droits imprescriptibles. \nVente de billets en ligne
URL:https://abclivre.com/atelier/rencontres-5
LOCATION:En ligne
CATEGORIES:En ligne
ATTACH;FMTTYPE=image/jpeg:https://abclivre.com/wp-content/uploads/2025/07/abclivre_Atelier_ecriture_rencontres-scaled.jpg
END:VEVENT
END:VCALENDAR