BEGIN:VCALENDAR
VERSION:2.0
PRODID:-//ABC Livre - ECPv6.15.20//NONSGML v1.0//EN
CALSCALE:GREGORIAN
METHOD:PUBLISH
X-WR-CALNAME:ABC Livre
X-ORIGINAL-URL:https://abclivre.com
X-WR-CALDESC:Évènements pour ABC Livre
REFRESH-INTERVAL;VALUE=DURATION:PT1H
X-Robots-Tag:noindex
X-PUBLISHED-TTL:PT1H
BEGIN:VTIMEZONE
TZID:Europe/Paris
BEGIN:DAYLIGHT
TZOFFSETFROM:+0100
TZOFFSETTO:+0200
TZNAME:CEST
DTSTART:20240331T010000
END:DAYLIGHT
BEGIN:STANDARD
TZOFFSETFROM:+0200
TZOFFSETTO:+0100
TZNAME:CET
DTSTART:20241027T010000
END:STANDARD
BEGIN:DAYLIGHT
TZOFFSETFROM:+0100
TZOFFSETTO:+0200
TZNAME:CEST
DTSTART:20250330T010000
END:DAYLIGHT
BEGIN:STANDARD
TZOFFSETFROM:+0200
TZOFFSETTO:+0100
TZNAME:CET
DTSTART:20251026T010000
END:STANDARD
BEGIN:DAYLIGHT
TZOFFSETFROM:+0100
TZOFFSETTO:+0200
TZNAME:CEST
DTSTART:20260329T010000
END:DAYLIGHT
BEGIN:STANDARD
TZOFFSETFROM:+0200
TZOFFSETTO:+0100
TZNAME:CET
DTSTART:20261025T010000
END:STANDARD
END:VTIMEZONE
BEGIN:VEVENT
DTSTART;TZID=Europe/Paris:20251215T190000
DTEND;TZID=Europe/Paris:20251215T210000
DTSTAMP:20260422T162359
CREATED:20251021T103345Z
LAST-MODIFIED:20251021T103345Z
UID:18363-1765825200-1765832400@abclivre.com
SUMMARY:Les mains
DESCRIPTION:En décembre\, je vous invite à écrire à partir de… nos mains ! Oui\, nos mains qui tiennent le crayon sur le papier\, par exemple. \nNous écrirons les mains qui portent\, qui jouent\, qui attrapent\, qui dansent et toutes les mains que vous pourrez imaginer. \nÀ partir des corps\, nous créerons des espaces de contact et des personnages avec des rides peut-être\, des ongles\, des paumes\, des bagues… \nDans cet atelier\, on vivra le lien des mains qui se tiennent ou se cherchent. Alors\, vous venez découvrir ce que les lignes des mains vous réservent ? \nRendez-vous le lundi 15 décembre à 19h en ligne d’où vous voulez. \nCet atelier d’écriture est pour vous\, si : \n\n\n\nvous avez envie d’une pause créative\,\nvous avez besoin de temps libre pour vous-même\,\nvous voulez découvrir de nouvelles lectures et partager les vôtres\,\nvous aimez les défis\, les jeux et être surpris·es\,\nvous êtes intrigué·e à l’idée de participer à un atelier d’écriture\,\nvous êtes prêt·es à rencontrer d’autres curieux et curieuses.\n\n\n\nC’est votre premier atelier ? Bienvenue !\nPour en savoir plus sur le déroulé\, c’est sur cet article qui présente vos droits imprescriptibles. \nVente de billets en ligne
URL:https://abclivre.com/atelier/les-mains-3
LOCATION:En ligne
CATEGORIES:En ligne
ATTACH;FMTTYPE=image/jpeg:https://abclivre.com/wp-content/uploads/2025/10/Atelier_ecriture_mains-scaled.jpeg
END:VEVENT
END:VCALENDAR